BEGIN:VCALENDAR
VERSION:2.0
PRODID:-//National Ugly Mugs - ECPv6.15.16//NONSGML v1.0//EN
CALSCALE:GREGORIAN
METHOD:PUBLISH
X-WR-CALNAME:National Ugly Mugs
X-ORIGINAL-URL:https://nationaluglymugs.org
X-WR-CALDESC:Events for National Ugly Mugs
REFRESH-INTERVAL;VALUE=DURATION:PT1H
X-Robots-Tag:noindex
X-PUBLISHED-TTL:PT1H
BEGIN:VTIMEZONE
TZID:Europe/London
BEGIN:DAYLIGHT
TZOFFSETFROM:+0000
TZOFFSETTO:+0100
TZNAME:BST
DTSTART:20230326T010000
END:DAYLIGHT
BEGIN:STANDARD
TZOFFSETFROM:+0100
TZOFFSETTO:+0000
TZNAME:GMT
DTSTART:20231029T010000
END:STANDARD
BEGIN:DAYLIGHT
TZOFFSETFROM:+0000
TZOFFSETTO:+0100
TZNAME:BST
DTSTART:20240331T010000
END:DAYLIGHT
BEGIN:STANDARD
TZOFFSETFROM:+0100
TZOFFSETTO:+0000
TZNAME:GMT
DTSTART:20241027T010000
END:STANDARD
BEGIN:DAYLIGHT
TZOFFSETFROM:+0000
TZOFFSETTO:+0100
TZNAME:BST
DTSTART:20250330T010000
END:DAYLIGHT
BEGIN:STANDARD
TZOFFSETFROM:+0100
TZOFFSETTO:+0000
TZNAME:GMT
DTSTART:20251026T010000
END:STANDARD
END:VTIMEZONE
BEGIN:VEVENT
DTSTART;TZID=Europe/London:20241212T130000
DTEND;TZID=Europe/London:20241212T160000
DTSTAMP:20260420T014113
CREATED:20241122T151015Z
LAST-MODIFIED:20241122T151015Z
UID:5018-1734008400-1734019200@nationaluglymugs.org
SUMMARY:Drop-in open
DESCRIPTION:Crafting space will be running alongside our usual services. \nTheme: Christmas!
URL:https://nationaluglymugs.org/event/drop-in-open-9/
LOCATION:NUMbrella Lane
CATEGORIES:NUMbrella Lane
END:VEVENT
END:VCALENDAR