BEGIN:VCALENDAR
VERSION:2.0
PRODID:-//National Ugly Mugs - ECPv6.15.16//NONSGML v1.0//EN
CALSCALE:GREGORIAN
METHOD:PUBLISH
X-WR-CALNAME:National Ugly Mugs
X-ORIGINAL-URL:https://nationaluglymugs.org
X-WR-CALDESC:Events for National Ugly Mugs
REFRESH-INTERVAL;VALUE=DURATION:PT1H
X-Robots-Tag:noindex
X-PUBLISHED-TTL:PT1H
BEGIN:VTIMEZONE
TZID:Europe/London
BEGIN:DAYLIGHT
TZOFFSETFROM:+0000
TZOFFSETTO:+0100
TZNAME:BST
DTSTART:20240331T010000
END:DAYLIGHT
BEGIN:STANDARD
TZOFFSETFROM:+0100
TZOFFSETTO:+0000
TZNAME:GMT
DTSTART:20241027T010000
END:STANDARD
BEGIN:DAYLIGHT
TZOFFSETFROM:+0000
TZOFFSETTO:+0100
TZNAME:BST
DTSTART:20250330T010000
END:DAYLIGHT
BEGIN:STANDARD
TZOFFSETFROM:+0100
TZOFFSETTO:+0000
TZNAME:GMT
DTSTART:20251026T010000
END:STANDARD
BEGIN:DAYLIGHT
TZOFFSETFROM:+0000
TZOFFSETTO:+0100
TZNAME:BST
DTSTART:20260329T010000
END:DAYLIGHT
BEGIN:STANDARD
TZOFFSETFROM:+0100
TZOFFSETTO:+0000
TZNAME:GMT
DTSTART:20261025T010000
END:STANDARD
END:VTIMEZONE
BEGIN:VEVENT
DTSTART;TZID=Europe/London:20250401T173000
DTEND;TZID=Europe/London:20250401T203000
DTSTAMP:20260420T223855
CREATED:20250401T154729Z
LAST-MODIFIED:20250401T154805Z
UID:5470-1743528600-1743539400@nationaluglymugs.org
SUMMARY:Spicy Screenings at NBL
DESCRIPTION:Tonight’s film at Glasgow Numbrella Lane will now be the very hot & genre bending LOVE LIES BLEEDING (a wee bit gory) \nDinner orders taken at 5.30/6pm \nFilm starts 7pm \n 
URL:https://nationaluglymugs.org/event/5470/
CATEGORIES:NUMbrella Lane,Social events
END:VEVENT
END:VCALENDAR