BEGIN:VCALENDAR
VERSION:2.0
PRODID:-//National Ugly Mugs - ECPv6.15.16//NONSGML v1.0//EN
CALSCALE:GREGORIAN
METHOD:PUBLISH
X-WR-CALNAME:National Ugly Mugs
X-ORIGINAL-URL:https://nationaluglymugs.org
X-WR-CALDESC:Events for National Ugly Mugs
REFRESH-INTERVAL;VALUE=DURATION:PT1H
X-Robots-Tag:noindex
X-PUBLISHED-TTL:PT1H
BEGIN:VTIMEZONE
TZID:Europe/London
BEGIN:DAYLIGHT
TZOFFSETFROM:+0000
TZOFFSETTO:+0100
TZNAME:BST
DTSTART:20220327T010000
END:DAYLIGHT
BEGIN:STANDARD
TZOFFSETFROM:+0100
TZOFFSETTO:+0000
TZNAME:GMT
DTSTART:20221030T010000
END:STANDARD
BEGIN:DAYLIGHT
TZOFFSETFROM:+0000
TZOFFSETTO:+0100
TZNAME:BST
DTSTART:20230326T010000
END:DAYLIGHT
BEGIN:STANDARD
TZOFFSETFROM:+0100
TZOFFSETTO:+0000
TZNAME:GMT
DTSTART:20231029T010000
END:STANDARD
BEGIN:DAYLIGHT
TZOFFSETFROM:+0000
TZOFFSETTO:+0100
TZNAME:BST
DTSTART:20240331T010000
END:DAYLIGHT
BEGIN:STANDARD
TZOFFSETFROM:+0100
TZOFFSETTO:+0000
TZNAME:GMT
DTSTART:20241027T010000
END:STANDARD
BEGIN:DAYLIGHT
TZOFFSETFROM:+0000
TZOFFSETTO:+0100
TZNAME:BST
DTSTART:20250330T010000
END:DAYLIGHT
BEGIN:STANDARD
TZOFFSETFROM:+0100
TZOFFSETTO:+0000
TZNAME:GMT
DTSTART:20251026T010000
END:STANDARD
END:VTIMEZONE
BEGIN:VEVENT
DTSTART;TZID=Europe/London:20240102T173000
DTEND;TZID=Europe/London:20240401T203000
DTSTAMP:20260420T091228
CREATED:20240124T124604Z
LAST-MODIFIED:20240124T124605Z
UID:3782-1704216600-1712003400@nationaluglymugs.org
SUMMARY:Drop-in Tuesdays
DESCRIPTION:
URL:https://nationaluglymugs.org/event/drop-in-open-5-2/
CATEGORIES:Drop-in
END:VEVENT
BEGIN:VEVENT
DTSTART;TZID=Europe/London:20240307T123000
DTEND;TZID=Europe/London:20240307T150000
DTSTAMP:20260420T091228
CREATED:20240227T114836Z
LAST-MODIFIED:20240311T085010Z
UID:3916-1709814600-1709823600@nationaluglymugs.org
SUMMARY:Vocational Support Virtual Workshop 3: CV Development and Journey Planning (Zoom)
DESCRIPTION:
URL:https://nationaluglymugs.org/event/vss-workshop-3-cv-development-and-journey-planning/
LOCATION:Online
CATEGORIES:Vocational Support
END:VEVENT
BEGIN:VEVENT
DTSTART;TZID=Europe/London:20240306T123000
DTEND;TZID=Europe/London:20240306T150000
DTSTAMP:20260420T091228
CREATED:20240227T114908Z
LAST-MODIFIED:20240710T090902Z
UID:3914-1709728200-1709737200@nationaluglymugs.org
SUMMARY:Vocational Support Virtual Workshop 2: Competency and Transferable Skills (Zoom)
DESCRIPTION:
URL:https://nationaluglymugs.org/event/vss-workshop-2-competency-and-transferable-skills/
LOCATION:Online
CATEGORIES:Vocational Support
END:VEVENT
BEGIN:VEVENT
DTSTART;TZID=Europe/London:20240102T173000
DTEND;TZID=Europe/London:20240401T203000
DTSTAMP:20260420T091228
CREATED:20240124T124604Z
LAST-MODIFIED:20240124T124605Z
UID:3782-1704216600-1712003400@nationaluglymugs.org
SUMMARY:Drop-in Tuesdays
DESCRIPTION:
URL:https://nationaluglymugs.org/event/drop-in-open-5-2/
CATEGORIES:Drop-in
END:VEVENT
BEGIN:VEVENT
DTSTART;TZID=Europe/London:20240227T110000
DTEND;TZID=Europe/London:20240227T133000
DTSTAMP:20260420T091228
CREATED:20240227T114934Z
LAST-MODIFIED:20240311T084815Z
UID:3910-1709031600-1709040600@nationaluglymugs.org
SUMMARY:Vocational Support Virtual Workshop 1: Changing the Game (Zoom)
DESCRIPTION:
URL:https://nationaluglymugs.org/event/vss-workshop-1-changing-the-game/
LOCATION:Online
CATEGORIES:Vocational Support
END:VEVENT
BEGIN:VEVENT
DTSTART;TZID=Europe/London:20240307T123000
DTEND;TZID=Europe/London:20240307T150000
DTSTAMP:20260420T091228
CREATED:20240227T114836Z
LAST-MODIFIED:20240311T085010Z
UID:3916-1709814600-1709823600@nationaluglymugs.org
SUMMARY:Vocational Support Virtual Workshop 3: CV Development and Journey Planning (Zoom)
DESCRIPTION:
URL:https://nationaluglymugs.org/event/vss-workshop-3-cv-development-and-journey-planning/
LOCATION:Online
CATEGORIES:Vocational Support
END:VEVENT
BEGIN:VEVENT
DTSTART;TZID=Europe/London:20240306T123000
DTEND;TZID=Europe/London:20240306T150000
DTSTAMP:20260420T091228
CREATED:20240227T114908Z
LAST-MODIFIED:20240710T090902Z
UID:3914-1709728200-1709737200@nationaluglymugs.org
SUMMARY:Vocational Support Virtual Workshop 2: Competency and Transferable Skills (Zoom)
DESCRIPTION:
URL:https://nationaluglymugs.org/event/vss-workshop-2-competency-and-transferable-skills/
LOCATION:Online
CATEGORIES:Vocational Support
END:VEVENT
BEGIN:VEVENT
DTSTART;TZID=Europe/London:20240102T173000
DTEND;TZID=Europe/London:20240401T203000
DTSTAMP:20260420T091228
CREATED:20240124T124604Z
LAST-MODIFIED:20240124T124605Z
UID:3782-1704216600-1712003400@nationaluglymugs.org
SUMMARY:Drop-in Tuesdays
DESCRIPTION:
URL:https://nationaluglymugs.org/event/drop-in-open-5-2/
CATEGORIES:Drop-in
END:VEVENT
BEGIN:VEVENT
DTSTART;TZID=Europe/London:20240227T110000
DTEND;TZID=Europe/London:20240227T133000
DTSTAMP:20260420T091228
CREATED:20240227T114934Z
LAST-MODIFIED:20240311T084815Z
UID:3910-1709031600-1709040600@nationaluglymugs.org
SUMMARY:Vocational Support Virtual Workshop 1: Changing the Game (Zoom)
DESCRIPTION:
URL:https://nationaluglymugs.org/event/vss-workshop-1-changing-the-game/
LOCATION:Online
CATEGORIES:Vocational Support
END:VEVENT
BEGIN:VEVENT
DTSTART;TZID=Europe/London:20240307T160000
DTEND;TZID=Europe/London:20240307T170000
DTSTAMP:20260420T091228
CREATED:20240229T102417Z
LAST-MODIFIED:20240305T140818Z
UID:3961-1709827200-1709830800@nationaluglymugs.org
SUMMARY:Vocational Support - Workspace Virtual Hangout (Zoom)
DESCRIPTION:
URL:https://nationaluglymugs.org/event/vss-workspace-hangout/
CATEGORIES:Vocational Support
END:VEVENT
BEGIN:VEVENT
DTSTART;TZID=Europe/London:20240307T123000
DTEND;TZID=Europe/London:20240307T150000
DTSTAMP:20260420T091228
CREATED:20240327T103355Z
LAST-MODIFIED:20240327T103355Z
UID:4048-1709814600-1709823600@nationaluglymugs.org
SUMMARY:Vocational Support Virtual Workshop 3: CV Development and Journey Planning (Zoom)
DESCRIPTION:
URL:https://nationaluglymugs.org/event/vocational-support-virtual-workshop-3-cv-development-and-journey-planning-zoom/
LOCATION:Online
CATEGORIES:Vocational Support
END:VEVENT
BEGIN:VEVENT
DTSTART;TZID=Europe/London:20240307T123000
DTEND;TZID=Europe/London:20240307T150000
DTSTAMP:20260420T091228
CREATED:20240227T114836Z
LAST-MODIFIED:20240311T085010Z
UID:3916-1709814600-1709823600@nationaluglymugs.org
SUMMARY:Vocational Support Virtual Workshop 3: CV Development and Journey Planning (Zoom)
DESCRIPTION:
URL:https://nationaluglymugs.org/event/vss-workshop-3-cv-development-and-journey-planning/
LOCATION:Online
CATEGORIES:Vocational Support
END:VEVENT
BEGIN:VEVENT
DTSTART;TZID=Europe/London:20240306T123000
DTEND;TZID=Europe/London:20240306T150000
DTSTAMP:20260420T091228
CREATED:20240227T114908Z
LAST-MODIFIED:20240710T090902Z
UID:3914-1709728200-1709737200@nationaluglymugs.org
SUMMARY:Vocational Support Virtual Workshop 2: Competency and Transferable Skills (Zoom)
DESCRIPTION:
URL:https://nationaluglymugs.org/event/vss-workshop-2-competency-and-transferable-skills/
LOCATION:Online
CATEGORIES:Vocational Support
END:VEVENT
BEGIN:VEVENT
DTSTART;TZID=Europe/London:20240102T173000
DTEND;TZID=Europe/London:20240401T203000
DTSTAMP:20260420T091228
CREATED:20240124T124604Z
LAST-MODIFIED:20240124T124605Z
UID:3782-1704216600-1712003400@nationaluglymugs.org
SUMMARY:Drop-in Tuesdays
DESCRIPTION:
URL:https://nationaluglymugs.org/event/drop-in-open-5-2/
CATEGORIES:Drop-in
END:VEVENT
BEGIN:VEVENT
DTSTART;TZID=Europe/London:20240229T130000
DTEND;TZID=Europe/London:20240229T160000
DTSTAMP:20260420T091228
CREATED:20240219T115537Z
LAST-MODIFIED:20240219T115537Z
UID:3898-1709211600-1709222400@nationaluglymugs.org
SUMMARY:Drop-in Thursday
DESCRIPTION:Also with craft session
URL:https://nationaluglymugs.org/event/drop-in-thursday-2/
END:VEVENT
BEGIN:VEVENT
DTSTART;TZID=Europe/London:20240102T173000
DTEND;TZID=Europe/London:20240401T203000
DTSTAMP:20260420T091228
CREATED:20240124T124604Z
LAST-MODIFIED:20240124T124605Z
UID:3782-1704216600-1712003400@nationaluglymugs.org
SUMMARY:Drop-in Tuesdays
DESCRIPTION:
URL:https://nationaluglymugs.org/event/drop-in-open-5-2/
CATEGORIES:Drop-in
END:VEVENT
BEGIN:VEVENT
DTSTART;TZID=Europe/London:20240227T110000
DTEND;TZID=Europe/London:20240227T133000
DTSTAMP:20260420T091228
CREATED:20240227T114934Z
LAST-MODIFIED:20240311T084815Z
UID:3910-1709031600-1709040600@nationaluglymugs.org
SUMMARY:Vocational Support Virtual Workshop 1: Changing the Game (Zoom)
DESCRIPTION:
URL:https://nationaluglymugs.org/event/vss-workshop-1-changing-the-game/
LOCATION:Online
CATEGORIES:Vocational Support
END:VEVENT
BEGIN:VEVENT
DTSTART;TZID=Europe/London:20240222T130000
DTEND;TZID=Europe/London:20240222T160000
DTSTAMP:20260420T091228
CREATED:20240219T115041Z
LAST-MODIFIED:20240219T115041Z
UID:3893-1708606800-1708617600@nationaluglymugs.org
SUMMARY:Drop-in Open
DESCRIPTION:Drop-in open\, also with craft session
URL:https://nationaluglymugs.org/event/drop-in-thursday/
CATEGORIES:NUMbrella Lane
END:VEVENT
BEGIN:VEVENT
DTSTART;TZID=Europe/London:20240102T173000
DTEND;TZID=Europe/London:20240401T203000
DTSTAMP:20260420T091228
CREATED:20240124T124604Z
LAST-MODIFIED:20240124T124605Z
UID:3782-1704216600-1712003400@nationaluglymugs.org
SUMMARY:Drop-in Tuesdays
DESCRIPTION:
URL:https://nationaluglymugs.org/event/drop-in-open-5-2/
CATEGORIES:Drop-in
END:VEVENT
BEGIN:VEVENT
DTSTART;TZID=Europe/London:20240102T173000
DTEND;TZID=Europe/London:20240401T203000
DTSTAMP:20260420T091228
CREATED:20240124T124604Z
LAST-MODIFIED:20240124T124605Z
UID:3782-1704216600-1712003400@nationaluglymugs.org
SUMMARY:Drop-in Tuesdays
DESCRIPTION:
URL:https://nationaluglymugs.org/event/drop-in-open-5-2/
CATEGORIES:Drop-in
END:VEVENT
BEGIN:VEVENT
DTSTART;TZID=Europe/London:20240212T163000
DTEND;TZID=Europe/London:20240212T190000
DTSTAMP:20260420T091228
CREATED:20240219T115257Z
LAST-MODIFIED:20240219T115257Z
UID:3896-1707755400-1707764400@nationaluglymugs.org
SUMMARY:GFT Trip
DESCRIPTION:
URL:https://nationaluglymugs.org/event/gft-trip/
END:VEVENT
BEGIN:VEVENT
DTSTART;TZID=Europe/London:20240102T173000
DTEND;TZID=Europe/London:20240401T203000
DTSTAMP:20260420T091228
CREATED:20240124T124604Z
LAST-MODIFIED:20240124T124605Z
UID:3782-1704216600-1712003400@nationaluglymugs.org
SUMMARY:Drop-in Tuesdays
DESCRIPTION:
URL:https://nationaluglymugs.org/event/drop-in-open-5-2/
CATEGORIES:Drop-in
END:VEVENT
BEGIN:VEVENT
DTSTART;TZID=Europe/London:20240102T173000
DTEND;TZID=Europe/London:20240401T203000
DTSTAMP:20260420T091228
CREATED:20240124T124604Z
LAST-MODIFIED:20240124T124605Z
UID:3782-1704216600-1712003400@nationaluglymugs.org
SUMMARY:Drop-in Tuesdays
DESCRIPTION:
URL:https://nationaluglymugs.org/event/drop-in-open-5-2/
CATEGORIES:Drop-in
END:VEVENT
BEGIN:VEVENT
DTSTART;TZID=Europe/London:20240125T130000
DTEND;TZID=Europe/London:20240125T160000
DTSTAMP:20260420T091228
CREATED:20240124T171306Z
LAST-MODIFIED:20240124T171557Z
UID:3787-1706187600-1706198400@nationaluglymugs.org
SUMMARY:Drop-in Thursdays
DESCRIPTION:
URL:https://nationaluglymugs.org/event/drop-in-open-2-2/
LOCATION:NUMbrella Lane
CATEGORIES:Drop-in
END:VEVENT
BEGIN:VEVENT
DTSTART;TZID=Europe/London:20240123T173000
DTEND;TZID=Europe/London:20240123T203000
DTSTAMP:20260420T091228
CREATED:20240122T165404Z
LAST-MODIFIED:20240124T124414Z
UID:3667-1706031000-1706041800@nationaluglymugs.org
SUMMARY:Drop-in Tuesdays
DESCRIPTION:
URL:https://nationaluglymugs.org/event/drop-in-open-5/
CATEGORIES:Drop-in
END:VEVENT
BEGIN:VEVENT
DTSTART;TZID=Europe/London:20240110T133000
DTEND;TZID=Europe/London:20240110T160000
DTSTAMP:20260420T091228
CREATED:20240124T171458Z
LAST-MODIFIED:20240124T171458Z
UID:3789-1704893400-1704902400@nationaluglymugs.org
SUMMARY:Edinburgh Drop-In
DESCRIPTION:
URL:https://nationaluglymugs.org/event/edinburgh-drop-in/
LOCATION:NUMbrella Lane’s Edinburgh Venue
CATEGORIES:Drop-in
END:VEVENT
BEGIN:VEVENT
DTSTART;TZID=Europe/London:20230704T180000
DTEND;TZID=Europe/London:20230704T200000
DTSTAMP:20260420T091228
CREATED:20230607T123655Z
LAST-MODIFIED:20230607T123655Z
UID:3186-1688493600-1688500800@nationaluglymugs.org
SUMMARY:Parliamentary Launch: Hookers Against Hardship
DESCRIPTION:
URL:https://nationaluglymugs.org/event/parliamentary-launch-hookers-against-hardship/
LOCATION:Houses of Parliament\, Palace of Westminister\, London\, SW1A 0AA
CATEGORIES:Activism
END:VEVENT
BEGIN:VEVENT
DTSTART;TZID=Europe/London:20230622T143000
DTEND;TZID=Europe/London:20230622T160000
DTSTAMP:20260420T091228
CREATED:20230614T104944Z
LAST-MODIFIED:20230614T104944Z
UID:3209-1687444200-1687449600@nationaluglymugs.org
SUMMARY:In person Mental Health Session- Self-care for anxiety
DESCRIPTION:Join us at the drop in for our in person mental health session with our therapist George. \nThe event is free. \nEmail us for more details. \n 
URL:https://nationaluglymugs.org/event/in-person-mental-health-session-self-care-for-anxiety/
LOCATION:NUMbrella Lane
CATEGORIES:Drop-in,NUMbrella Lane
END:VEVENT
BEGIN:VEVENT
DTSTART;TZID=Europe/London:20230619T190000
DTEND;TZID=Europe/London:20230619T213000
DTSTAMP:20260420T091228
CREATED:20230619T095641Z
LAST-MODIFIED:20230619T095641Z
UID:3229-1687201200-1687210200@nationaluglymugs.org
SUMMARY:BODS- Life Drawing
DESCRIPTION:BODS is a weekly life drawing session at Bonjour (37-45 Saltmarket G1 5NF) \n  \nDoors open from 19:00\, come down early for a good seat. \nBYO materials. \n  \nhttps://www.eventbrite.com/e/bods-life-drawing-free-tickets-tickets-639332600017
URL:https://nationaluglymugs.org/event/bods-life-drawing/
LOCATION:Bonjour\, 37-45 Saltmarket\, Glasgow
END:VEVENT
BEGIN:VEVENT
DTSTART;TZID=Europe/London:20230602T163000
DTEND;TZID=Europe/London:20230602T193000
DTSTAMP:20260420T091228
CREATED:20230602T141829Z
LAST-MODIFIED:20230602T141954Z
UID:3180-1685723400-1685734200@nationaluglymugs.org
SUMMARY:Dinner for International Sexworkers Day
DESCRIPTION:Join us at drop-in for sushi and cake\, celebrating International Sexworkers day!
URL:https://nationaluglymugs.org/event/dinner-for-international-sexworkers-day/
CATEGORIES:Drop-in,Social events
END:VEVENT
END:VCALENDAR